BEGIN:VCALENDAR
VERSION:2.0
PRODID:-//Allencarr - ECPv6.3.3//NONSGML v1.0//EN
CALSCALE:GREGORIAN
METHOD:PUBLISH
X-WR-CALNAME:Allencarr
X-ORIGINAL-URL:https://www.allencarr.ro
X-WR-CALDESC:Events for Allencarr
REFRESH-INTERVAL;VALUE=DURATION:PT1H
X-Robots-Tag:noindex
X-PUBLISHED-TTL:PT1H
BEGIN:VTIMEZONE
TZID:UTC
BEGIN:STANDARD
TZOFFSETFROM:+0000
TZOFFSETTO:+0000
TZNAME:UTC
DTSTART:20200101T000000
END:STANDARD
END:VTIMEZONE
BEGIN:VEVENT
DTSTART;VALUE=DATE:20201003
DTEND;VALUE=DATE:20201004
DTSTAMP:20260419T210852
CREATED:20200906T075621Z
LAST-MODIFIED:20200906T075622Z
UID:1633-1601683200-1601769599@www.allencarr.ro
SUMMARY:Sesiune principala de grup ONLINE - Oana Achim
DESCRIPTION:[vc_row][vc_column width=”1/6″][/vc_column][vc_column width=”2/3″ heading_align=”text-center” color_set=”secondary_section” transparent_overlay=”transparent_film” margin=”margin_bottom_grid” css=”.vc_custom_1532416999359{padding-right: 25px !important;padding-left: 25px !important;}”][vc_empty_space]\n\n  \n\n\n\n\n\n\n\n\n\n\n\n	\n		\n		 \n	\n	\n		\n		 \n	\n	\n		\n		 \n	\n	\n		Grup StandardGrup Avantaj\n		 \n	\n	\n		\n		 \n	\n	\n	\n	\n	\n		\n		 \n	\n	\n		Am citit și sunt de acord cu  Politica de confidențialitate a datelor\n		 \n	\n	\n		\n		 \n	\n\n\n\n[vc_empty_space][/vc_column][vc_column width=”1/6″][/vc_column][/vc_row]
URL:https://www.allencarr.ro/eveniment/sesiune-principala-de-grup-online-oana-achim-2/
END:VEVENT
BEGIN:VEVENT
DTSTART;VALUE=DATE:20201007
DTEND;VALUE=DATE:20201008
DTSTAMP:20260419T210852
CREATED:20200906T075736Z
LAST-MODIFIED:20200906T075736Z
UID:1635-1602028800-1602115199@www.allencarr.ro
SUMMARY:Sesiune de suport 2 ONLINE - Oana Achim
DESCRIPTION:[vc_row][vc_column width=”1/6″][/vc_column][vc_column width=”2/3″ heading_align=”text-center” color_set=”secondary_section” transparent_overlay=”transparent_film” margin=”margin_bottom_grid” css=”.vc_custom_1532416999359{padding-right: 25px !important;padding-left: 25px !important;}”][vc_empty_space]\n\n  \n\n\n\n\n\n\n\n\n\n\n\n	\n		\n		 \n	\n	\n		\n		 \n	\n	\n		\n		 \n	\n	\n		Grup StandardGrup Avantaj\n		 \n	\n	\n		\n		 \n	\n	\n	\n	\n	\n		\n		 \n	\n	\n		Am citit și sunt de acord cu  Politica de confidențialitate a datelor\n		 \n	\n	\n		\n		 \n	\n\n\n\n[vc_empty_space][/vc_column][vc_column width=”1/6″][/vc_column][/vc_row]
URL:https://www.allencarr.ro/eveniment/sesiune-de-suport-2-online-oana-achim-2/
END:VEVENT
BEGIN:VEVENT
DTSTART;VALUE=DATE:20201013
DTEND;VALUE=DATE:20201014
DTSTAMP:20260419T210852
CREATED:20200906T075833Z
LAST-MODIFIED:20200906T080427Z
UID:1637-1602547200-1602633599@www.allencarr.ro
SUMMARY:Sesiune de suport 3 ONLINE - Cristina Nichita
DESCRIPTION:[vc_row][vc_column width=”1/6″][/vc_column][vc_column width=”2/3″ heading_align=”text-center” color_set=”secondary_section” transparent_overlay=”transparent_film” margin=”margin_bottom_grid” css=”.vc_custom_1532416999359{padding-right: 25px !important;padding-left: 25px !important;}”][vc_empty_space]\n\n  \n\n\n\n\n\n\n\n\n\n\n\n	\n		\n		 \n	\n	\n		\n		 \n	\n	\n		\n		 \n	\n	\n		Grup StandardGrup Avantaj\n		 \n	\n	\n		\n		 \n	\n	\n	\n	\n	\n		\n		 \n	\n	\n		Am citit și sunt de acord cu  Politica de confidențialitate a datelor\n		 \n	\n	\n		\n		 \n	\n\n\n\n[vc_empty_space][/vc_column][vc_column width=”1/6″][/vc_column][/vc_row]
URL:https://www.allencarr.ro/eveniment/sesiune-de-suport-3-online-cristina-nichita-2/
END:VEVENT
BEGIN:VEVENT
DTSTART;VALUE=DATE:20201017
DTEND;VALUE=DATE:20201018
DTSTAMP:20260419T210852
CREATED:20200906T075941Z
LAST-MODIFIED:20200906T075941Z
UID:1639-1602892800-1602979199@www.allencarr.ro
SUMMARY:Sesiune principala de grup CABINET - Cristina Nichita
DESCRIPTION:[vc_row][vc_column width=”1/6″][/vc_column][vc_column width=”2/3″ heading_align=”text-center” color_set=”secondary_section” transparent_overlay=”transparent_film” margin=”margin_bottom_grid” css=”.vc_custom_1532416999359{padding-right: 25px !important;padding-left: 25px !important;}”][vc_empty_space]\n\n  \n\n\n\n\n\n\n\n\n\n\n\n	\n		\n		 \n	\n	\n		\n		 \n	\n	\n		\n		 \n	\n	\n		Grup StandardGrup Avantaj\n		 \n	\n	\n		\n		 \n	\n	\n	\n	\n	\n		\n		 \n	\n	\n		Am citit și sunt de acord cu  Politica de confidențialitate a datelor\n		 \n	\n	\n		\n		 \n	\n\n\n\n[vc_empty_space][/vc_column][vc_column width=”1/6″][/vc_column][/vc_row]
URL:https://www.allencarr.ro/eveniment/sesiune-principala-de-grup-cabinet-cristina-nichita/
END:VEVENT
BEGIN:VEVENT
DTSTART;VALUE=DATE:20201021
DTEND;VALUE=DATE:20201022
DTSTAMP:20260419T210852
CREATED:20200906T080046Z
LAST-MODIFIED:20200906T080047Z
UID:1641-1603238400-1603324799@www.allencarr.ro
SUMMARY:Sesiune de suport 3 ONLINE - Oana Achim
DESCRIPTION:[vc_row][vc_column width=”1/6″][/vc_column][vc_column width=”2/3″ heading_align=”text-center” color_set=”secondary_section” transparent_overlay=”transparent_film” margin=”margin_bottom_grid” css=”.vc_custom_1532416999359{padding-right: 25px !important;padding-left: 25px !important;}”][vc_empty_space]\n\n  \n\n\n\n\n\n\n\n\n\n\n\n	\n		\n		 \n	\n	\n		\n		 \n	\n	\n		\n		 \n	\n	\n		Grup StandardGrup Avantaj\n		 \n	\n	\n		\n		 \n	\n	\n	\n	\n	\n		\n		 \n	\n	\n		Am citit și sunt de acord cu  Politica de confidențialitate a datelor\n		 \n	\n	\n		\n		 \n	\n\n\n\n[vc_empty_space][/vc_column][vc_column width=”1/6″][/vc_column][/vc_row]
URL:https://www.allencarr.ro/eveniment/sesiune-de-suport-3-online-oana-achim-3/
END:VEVENT
BEGIN:VEVENT
DTSTART;VALUE=DATE:20201024
DTEND;VALUE=DATE:20201025
DTSTAMP:20260419T210852
CREATED:20200906T080156Z
LAST-MODIFIED:20200906T080157Z
UID:1643-1603497600-1603583999@www.allencarr.ro
SUMMARY:Sesiune principala de grup ONLINE - Oana Achim
DESCRIPTION:[vc_row][vc_column width=”1/6″][/vc_column][vc_column width=”2/3″ heading_align=”text-center” color_set=”secondary_section” transparent_overlay=”transparent_film” margin=”margin_bottom_grid” css=”.vc_custom_1532416999359{padding-right: 25px !important;padding-left: 25px !important;}”][vc_empty_space]\n\n  \n\n\n\n\n\n\n\n\n\n\n\n	\n		\n		 \n	\n	\n		\n		 \n	\n	\n		\n		 \n	\n	\n		Grup StandardGrup Avantaj\n		 \n	\n	\n		\n		 \n	\n	\n	\n	\n	\n		\n		 \n	\n	\n		Am citit și sunt de acord cu  Politica de confidențialitate a datelor\n		 \n	\n	\n		\n		 \n	\n\n\n\n[vc_empty_space][/vc_column][vc_column width=”1/6″][/vc_column][/vc_row]
URL:https://www.allencarr.ro/eveniment/sesiune-principala-de-grup-online-oana-achim-3/
END:VEVENT
BEGIN:VEVENT
DTSTART;VALUE=DATE:20201027
DTEND;VALUE=DATE:20201028
DTSTAMP:20260419T210852
CREATED:20200906T080355Z
LAST-MODIFIED:20200906T080356Z
UID:1645-1603756800-1603843199@www.allencarr.ro
SUMMARY:Sesiune de suport 2 ONLINE - Cristina Nichita
DESCRIPTION:[vc_row][vc_column width=”1/6″][/vc_column][vc_column width=”2/3″ heading_align=”text-center” color_set=”secondary_section” transparent_overlay=”transparent_film” margin=”margin_bottom_grid” css=”.vc_custom_1532416999359{padding-right: 25px !important;padding-left: 25px !important;}”][vc_empty_space]\n\n  \n\n\n\n\n\n\n\n\n\n\n\n	\n		\n		 \n	\n	\n		\n		 \n	\n	\n		\n		 \n	\n	\n		Grup StandardGrup Avantaj\n		 \n	\n	\n		\n		 \n	\n	\n	\n	\n	\n		\n		 \n	\n	\n		Am citit și sunt de acord cu  Politica de confidențialitate a datelor\n		 \n	\n	\n		\n		 \n	\n\n\n\n[vc_empty_space][/vc_column][vc_column width=”1/6″][/vc_column][/vc_row]
URL:https://www.allencarr.ro/eveniment/sesiune-de-suport-2-online-cristina-nichita-3/
END:VEVENT
END:VCALENDAR