BEGIN:VCALENDAR
VERSION:2.0
PRODID:-//Allencarr - ECPv6.3.3//NONSGML v1.0//EN
CALSCALE:GREGORIAN
METHOD:PUBLISH
X-WR-CALNAME:Allencarr
X-ORIGINAL-URL:https://www.allencarr.ro
X-WR-CALDESC:Events for Allencarr
REFRESH-INTERVAL;VALUE=DURATION:PT1H
X-Robots-Tag:noindex
X-PUBLISHED-TTL:PT1H
BEGIN:VTIMEZONE
TZID:UTC
BEGIN:STANDARD
TZOFFSETFROM:+0000
TZOFFSETTO:+0000
TZNAME:UTC
DTSTART:20200101T000000
END:STANDARD
END:VTIMEZONE
BEGIN:VEVENT
DTSTART;TZID=UTC:20200304T183000
DTEND;TZID=UTC:20200304T203000
DTSTAMP:20260421T135521
CREATED:20200302T061210Z
LAST-MODIFIED:20200302T061211Z
UID:1469-1583346600-1583353800@www.allencarr.ro
SUMMARY:Sesiune suport 2 - Oana Achim
DESCRIPTION:[vc_row][vc_column width=”1/6″][/vc_column][vc_column width=”2/3″ heading_align=”text-center” color_set=”secondary_section” transparent_overlay=”transparent_film” margin=”margin_bottom_grid” css=”.vc_custom_1532416999359{padding-right: 25px !important;padding-left: 25px !important;}”][vc_empty_space]\n\n  \n\n\n\n\n\n\n\n\n\n\n\n	\n		\n		 \n	\n	\n		\n		 \n	\n	\n		\n		 \n	\n	\n		Grup StandardGrup Avantaj\n		 \n	\n	\n		\n		 \n	\n	\n	\n	\n	\n		\n		 \n	\n	\n		Am citit și sunt de acord cu  Politica de confidențialitate a datelor\n		 \n	\n	\n		\n		 \n	\n\n\n\n[vc_empty_space][/vc_column][vc_column width=”1/6″][/vc_column][/vc_row]
URL:https://www.allencarr.ro/eveniment/sesiune-suport-2-oana-achim-6/
END:VEVENT
BEGIN:VEVENT
DTSTART;VALUE=DATE:20200307
DTEND;VALUE=DATE:20200308
DTSTAMP:20260421T135521
CREATED:20200302T061035Z
LAST-MODIFIED:20200302T061036Z
UID:1465-1583539200-1583625599@www.allencarr.ro
SUMMARY:Sesiune principală București
DESCRIPTION:[vc_row][vc_column width=”1/6″][/vc_column][vc_column width=”2/3″ heading_align=”text-center” color_set=”secondary_section” transparent_overlay=”transparent_film” margin=”margin_bottom_grid” css=”.vc_custom_1532416999359{padding-right: 25px !important;padding-left: 25px !important;}”][vc_empty_space]\n\n  \n\n\n\n\n\n\n\n\n\n\n\n	\n		\n		 \n	\n	\n		\n		 \n	\n	\n		\n		 \n	\n	\n		Grup StandardGrup Avantaj\n		 \n	\n	\n		\n		 \n	\n	\n	\n	\n	\n		\n		 \n	\n	\n		Am citit și sunt de acord cu  Politica de confidențialitate a datelor\n		 \n	\n	\n		\n		 \n	\n\n\n\n[vc_empty_space][/vc_column][vc_column width=”1/6″][/vc_column][/vc_row][vc_row][vc_column width=”1/6″][/vc_column][vc_column width=”2/3″ heading_align=”text-center” color_set=”secondary_section” transparent_overlay=”transparent_film” margin=”margin_bottom_grid” css=”.vc_custom_1532416999359{padding-right: 25px !important;padding-left: 25px !important;}”][vc_empty_space]\n\n  \n\n\n\n\n\n\n\n\n\n\n\n	\n		\n		 \n	\n	\n		\n		 \n	\n	\n		\n		 \n	\n	\n		Grup StandardGrup Avantaj\n		 \n	\n	\n		\n		 \n	\n	\n	\n	\n	\n		\n		 \n	\n	\n		Am citit și sunt de acord cu  Politica de confidențialitate a datelor\n		 \n	\n	\n		\n		 \n	\n\n\n\n[vc_empty_space][/vc_column][vc_column width=”1/6″][/vc_column][/vc_row]
URL:https://www.allencarr.ro/eveniment/sesiune-principala-bucuresti-36/
END:VEVENT
BEGIN:VEVENT
DTSTART;TZID=UTC:20200309T174500
DTEND;TZID=UTC:20200309T194500
DTSTAMP:20260421T135521
CREATED:20200302T105829Z
LAST-MODIFIED:20200302T105829Z
UID:1474-1583775900-1583783100@www.allencarr.ro
SUMMARY:Sesiune suport 2 - Cristina Nichita
DESCRIPTION:[vc_row][vc_column width=”1/6″][/vc_column][vc_column width=”2/3″ heading_align=”text-center” color_set=”secondary_section” transparent_overlay=”transparent_film” margin=”margin_bottom_grid” css=”.vc_custom_1532416999359{padding-right: 25px !important;padding-left: 25px !important;}”][vc_empty_space]\n\n  \n\n\n\n\n\n\n\n\n\n\n\n	\n		\n		 \n	\n	\n		\n		 \n	\n	\n		\n		 \n	\n	\n		Grup StandardGrup Avantaj\n		 \n	\n	\n		\n		 \n	\n	\n	\n	\n	\n		\n		 \n	\n	\n		Am citit și sunt de acord cu  Politica de confidențialitate a datelor\n		 \n	\n	\n		\n		 \n	\n\n\n\n[vc_empty_space][/vc_column][vc_column width=”1/6″][/vc_column][/vc_row]
URL:https://www.allencarr.ro/eveniment/sesiune-suport-2-cristina-nichita-6/
END:VEVENT
BEGIN:VEVENT
DTSTART;TZID=UTC:20200318T183000
DTEND;TZID=UTC:20200318T203000
DTSTAMP:20260421T135521
CREATED:20200302T061258Z
LAST-MODIFIED:20200302T061259Z
UID:1471-1584556200-1584563400@www.allencarr.ro
SUMMARY:Sesiune suport 3 - Oana Achim
DESCRIPTION:[vc_row][vc_column width=”1/6″][/vc_column][vc_column width=”2/3″ heading_align=”text-center” color_set=”secondary_section” transparent_overlay=”transparent_film” margin=”margin_bottom_grid” css=”.vc_custom_1532416999359{padding-right: 25px !important;padding-left: 25px !important;}”][vc_empty_space]\n\n  \n\n\n\n\n\n\n\n\n\n\n\n	\n		\n		 \n	\n	\n		\n		 \n	\n	\n		\n		 \n	\n	\n		Grup StandardGrup Avantaj\n		 \n	\n	\n		\n		 \n	\n	\n	\n	\n	\n		\n		 \n	\n	\n		Am citit și sunt de acord cu  Politica de confidențialitate a datelor\n		 \n	\n	\n		\n		 \n	\n\n\n\n[vc_empty_space][/vc_column][vc_column width=”1/6″][/vc_column][/vc_row]
URL:https://www.allencarr.ro/eveniment/sesiune-suport-3-oana-achim-6/
END:VEVENT
BEGIN:VEVENT
DTSTART;TZID=UTC:20200323T174500
DTEND;TZID=UTC:20200323T194500
DTSTAMP:20260421T135521
CREATED:20200302T105955Z
LAST-MODIFIED:20200302T105956Z
UID:1476-1584985500-1584992700@www.allencarr.ro
SUMMARY:Sesiune suport 3 - Cristina Nichita
DESCRIPTION:[vc_row][vc_column width=”1/6″][/vc_column][vc_column width=”2/3″ heading_align=”text-center” color_set=”secondary_section” transparent_overlay=”transparent_film” margin=”margin_bottom_grid” css=”.vc_custom_1532416999359{padding-right: 25px !important;padding-left: 25px !important;}”][vc_empty_space]\n\n  \n\n\n\n\n\n\n\n\n\n\n\n	\n		\n		 \n	\n	\n		\n		 \n	\n	\n		\n		 \n	\n	\n		Grup StandardGrup Avantaj\n		 \n	\n	\n		\n		 \n	\n	\n	\n	\n	\n		\n		 \n	\n	\n		Am citit și sunt de acord cu  Politica de confidențialitate a datelor\n		 \n	\n	\n		\n		 \n	\n\n\n\n[vc_empty_space][/vc_column][vc_column width=”1/6″][/vc_column][/vc_row]
URL:https://www.allencarr.ro/eveniment/sesiune-suport-3-cristina-nichita-6/
END:VEVENT
BEGIN:VEVENT
DTSTART;VALUE=DATE:20200326
DTEND;VALUE=DATE:20200327
DTSTAMP:20260421T135521
CREATED:20200322T065235Z
LAST-MODIFIED:20200322T065235Z
UID:1492-1585180800-1585267199@www.allencarr.ro
SUMMARY:Sesiune principală ONLINE
DESCRIPTION:[vc_row][vc_column width=”1/6″][/vc_column][vc_column width=”2/3″ heading_align=”text-center” color_set=”secondary_section” transparent_overlay=”transparent_film” margin=”margin_bottom_grid” css=”.vc_custom_1532416999359{padding-right: 25px !important;padding-left: 25px !important;}”][vc_empty_space]\n\n  \n\n\n\n\n\n\n\n\n\n\n\n	\n		\n		 \n	\n	\n		\n		 \n	\n	\n		\n		 \n	\n	\n		Grup StandardGrup Avantaj\n		 \n	\n	\n		\n		 \n	\n	\n	\n	\n	\n		\n		 \n	\n	\n		Am citit și sunt de acord cu  Politica de confidențialitate a datelor\n		 \n	\n	\n		\n		 \n	\n\n\n\n[vc_empty_space][/vc_column][vc_column width=”1/6″][/vc_column][/vc_row]
URL:https://www.allencarr.ro/eveniment/sesiune-principala-online/
END:VEVENT
BEGIN:VEVENT
DTSTART;VALUE=DATE:20200328
DTEND;VALUE=DATE:20200329
DTSTAMP:20260421T135521
CREATED:20200302T061107Z
LAST-MODIFIED:20200318T160544Z
UID:1467-1585353600-1585439999@www.allencarr.ro
SUMMARY:Sesiune principală București (ONLINE)
DESCRIPTION:[vc_row][vc_column width=”1/6″][/vc_column][vc_column width=”2/3″ heading_align=”text-center” color_set=”secondary_section” transparent_overlay=”transparent_film” margin=”margin_bottom_grid” css=”.vc_custom_1532416999359{padding-right: 25px !important;padding-left: 25px !important;}”][vc_empty_space]\n\n  \n\n\n\n\n\n\n\n\n\n\n\n	\n		\n		 \n	\n	\n		\n		 \n	\n	\n		\n		 \n	\n	\n		Grup StandardGrup Avantaj\n		 \n	\n	\n		\n		 \n	\n	\n	\n	\n	\n		\n		 \n	\n	\n		Am citit și sunt de acord cu  Politica de confidențialitate a datelor\n		 \n	\n	\n		\n		 \n	\n\n\n\n[vc_empty_space][/vc_column][vc_column width=”1/6″][/vc_column][/vc_row]
URL:https://www.allencarr.ro/eveniment/sesiune-principala-bucuresti-37/
END:VEVENT
BEGIN:VEVENT
DTSTART;VALUE=DATE:20200331
DTEND;VALUE=DATE:20200401
DTSTAMP:20260421T135521
CREATED:20200323T114207Z
LAST-MODIFIED:20200323T114207Z
UID:1496-1585612800-1585699199@www.allencarr.ro
SUMMARY:Sesiune principală ONLINE
DESCRIPTION:[vc_row][vc_column width=”1/6″][/vc_column][vc_column width=”2/3″ heading_align=”text-center” color_set=”secondary_section” transparent_overlay=”transparent_film” margin=”margin_bottom_grid” css=”.vc_custom_1532416999359{padding-right: 25px !important;padding-left: 25px !important;}”][vc_empty_space]\n\n  \n\n\n\n\n\n\n\n\n\n\n\n	\n		\n		 \n	\n	\n		\n		 \n	\n	\n		\n		 \n	\n	\n		Grup StandardGrup Avantaj\n		 \n	\n	\n		\n		 \n	\n	\n	\n	\n	\n		\n		 \n	\n	\n		Am citit și sunt de acord cu  Politica de confidențialitate a datelor\n		 \n	\n	\n		\n		 \n	\n\n\n\n[vc_empty_space][/vc_column][vc_column width=”1/6″][/vc_column][/vc_row]
URL:https://www.allencarr.ro/eveniment/sesiune-principala-online-3/
END:VEVENT
END:VCALENDAR