BEGIN:VCALENDAR
VERSION:2.0
PRODID:-//Allencarr - ECPv6.3.3//NONSGML v1.0//EN
CALSCALE:GREGORIAN
METHOD:PUBLISH
X-ORIGINAL-URL:https://www.allencarr.ro
X-WR-CALDESC:Events for Allencarr
REFRESH-INTERVAL;VALUE=DURATION:PT1H
X-Robots-Tag:noindex
X-PUBLISHED-TTL:PT1H
BEGIN:VTIMEZONE
TZID:UTC
BEGIN:STANDARD
TZOFFSETFROM:+0000
TZOFFSETTO:+0000
TZNAME:UTC
DTSTART:20200101T000000
END:STANDARD
END:VTIMEZONE
BEGIN:VEVENT
DTSTART;TZID=UTC:20200108T183000
DTEND;TZID=UTC:20200108T193000
DTSTAMP:20260419T181401
CREATED:20200107T133523Z
LAST-MODIFIED:20200107T133524Z
UID:1431-1578508200-1578511800@www.allencarr.ro
SUMMARY:Sesiune suport 2 - Oana Achim
DESCRIPTION:[vc_row][vc_column width=”1/6″][/vc_column][vc_column width=”2/3″ heading_align=”text-center” color_set=”secondary_section” transparent_overlay=”transparent_film” margin=”margin_bottom_grid” css=”.vc_custom_1532416999359{padding-right: 25px !important;padding-left: 25px !important;}”][vc_empty_space]\n\n  \n\n\n\n\n\n\n\n\n\n\n\n	\n		\n		 \n	\n	\n		\n		 \n	\n	\n		\n		 \n	\n	\n		Grup StandardGrup Avantaj\n		 \n	\n	\n		\n		 \n	\n	\n	\n	\n	\n		\n		 \n	\n	\n		Am citit și sunt de acord cu  Politica de confidențialitate a datelor\n		 \n	\n	\n		\n		 \n	\n\n\n\n[vc_empty_space][/vc_column][vc_column width=”1/6″][/vc_column][/vc_row]
URL:https://www.allencarr.ro/eveniment/sesiune-suport-2-oana-achim-4/
END:VEVENT
BEGIN:VEVENT
DTSTART;VALUE=DATE:20200111
DTEND;VALUE=DATE:20200112
DTSTAMP:20260419T181401
CREATED:20191224T064629Z
LAST-MODIFIED:20200107T042323Z
UID:1424-1578700800-1578787199@www.allencarr.ro
SUMMARY:Sesiune principală București
DESCRIPTION:[vc_row][vc_column width=”1/6″][/vc_column][vc_column width=”2/3″ heading_align=”text-center” color_set=”secondary_section” transparent_overlay=”transparent_film” margin=”margin_bottom_grid” css=”.vc_custom_1532416999359{padding-right: 25px !important;padding-left: 25px !important;}”][vc_empty_space]\n\n  \n\n\n\n\n\n\n\n\n\n\n\n	\n		\n		 \n	\n	\n		\n		 \n	\n	\n		\n		 \n	\n	\n		Grup StandardGrup Avantaj\n		 \n	\n	\n		\n		 \n	\n	\n	\n	\n	\n		\n		 \n	\n	\n		Am citit și sunt de acord cu  Politica de confidențialitate a datelor\n		 \n	\n	\n		\n		 \n	\n\n\n\n[vc_empty_space][/vc_column][vc_column width=”1/6″][/vc_column][/vc_row]
URL:https://www.allencarr.ro/eveniment/sesiune-principala-bucuresti-32/
END:VEVENT
BEGIN:VEVENT
DTSTART;TZID=UTC:20200113T174500
DTEND;TZID=UTC:20200113T194500
DTSTAMP:20260419T181401
CREATED:20200107T133310Z
LAST-MODIFIED:20200107T133310Z
UID:1427-1578937500-1578944700@www.allencarr.ro
SUMMARY:Sesiune suport 3 - Cristina Nichita
DESCRIPTION:[vc_row][vc_column width=”1/6″][/vc_column][vc_column width=”2/3″ heading_align=”text-center” color_set=”secondary_section” transparent_overlay=”transparent_film” margin=”margin_bottom_grid” css=”.vc_custom_1532416999359{padding-right: 25px !important;padding-left: 25px !important;}”][vc_empty_space]\n\n  \n\n\n\n\n\n\n\n\n\n\n\n	\n		\n		 \n	\n	\n		\n		 \n	\n	\n		\n		 \n	\n	\n		Grup StandardGrup Avantaj\n		 \n	\n	\n		\n		 \n	\n	\n	\n	\n	\n		\n		 \n	\n	\n		Am citit și sunt de acord cu  Politica de confidențialitate a datelor\n		 \n	\n	\n		\n		 \n	\n\n\n\n[vc_empty_space][/vc_column][vc_column width=”1/6″][/vc_column][/vc_row]
URL:https://www.allencarr.ro/eveniment/sesiune-suport-3-cristina-nichita-4/
END:VEVENT
BEGIN:VEVENT
DTSTART;TZID=UTC:20200115T183000
DTEND;TZID=UTC:20200115T203000
DTSTAMP:20260419T181401
CREATED:20200107T133611Z
LAST-MODIFIED:20200107T133612Z
UID:1433-1579113000-1579120200@www.allencarr.ro
SUMMARY:Sesiune suport 3 - Oana Achim
DESCRIPTION:[vc_row][vc_column width=”1/6″][/vc_column][vc_column width=”2/3″ heading_align=”text-center” color_set=”secondary_section” transparent_overlay=”transparent_film” margin=”margin_bottom_grid” css=”.vc_custom_1532416999359{padding-right: 25px !important;padding-left: 25px !important;}”][vc_empty_space]\n\n  \n\n\n\n\n\n\n\n\n\n\n\n	\n		\n		 \n	\n	\n		\n		 \n	\n	\n		\n		 \n	\n	\n		Grup StandardGrup Avantaj\n		 \n	\n	\n		\n		 \n	\n	\n	\n	\n	\n		\n		 \n	\n	\n		Am citit și sunt de acord cu  Politica de confidențialitate a datelor\n		 \n	\n	\n		\n		 \n	\n\n\n\n[vc_empty_space][/vc_column][vc_column width=”1/6″][/vc_column][/vc_row]
URL:https://www.allencarr.ro/eveniment/sesiune-suport-3-oana-achim-4/
END:VEVENT
BEGIN:VEVENT
DTSTART;VALUE=DATE:20200118
DTEND;VALUE=DATE:20200119
DTSTAMP:20260419T181401
CREATED:20191224T064513Z
LAST-MODIFIED:20191224T064514Z
UID:1422-1579305600-1579391999@www.allencarr.ro
SUMMARY:Sesiune principală București
DESCRIPTION:[vc_row][vc_column width=”1/6″][/vc_column][vc_column width=”2/3″ heading_align=”text-center” color_set=”secondary_section” transparent_overlay=”transparent_film” margin=”margin_bottom_grid” css=”.vc_custom_1532416999359{padding-right: 25px !important;padding-left: 25px !important;}”][vc_empty_space]\n\n  \n\n\n\n\n\n\n\n\n\n\n\n	\n		\n		 \n	\n	\n		\n		 \n	\n	\n		\n		 \n	\n	\n		Grup StandardGrup Avantaj\n		 \n	\n	\n		\n		 \n	\n	\n	\n	\n	\n		\n		 \n	\n	\n		Am citit și sunt de acord cu  Politica de confidențialitate a datelor\n		 \n	\n	\n		\n		 \n	\n\n\n\n[vc_empty_space][/vc_column][vc_column width=”1/6″][/vc_column][/vc_row]
URL:https://www.allencarr.ro/eveniment/sesiune-principala-bucuresti-31/
END:VEVENT
BEGIN:VEVENT
DTSTART;TZID=UTC:20200127T174500
DTEND;TZID=UTC:20200127T194500
DTSTAMP:20260419T181401
CREATED:20200107T133409Z
LAST-MODIFIED:20200107T133409Z
UID:1429-1580147100-1580154300@www.allencarr.ro
SUMMARY:Sesiune suport 2 - Cristina Nichita
DESCRIPTION:[vc_row][vc_column width=”1/6″][/vc_column][vc_column width=”2/3″ heading_align=”text-center” color_set=”secondary_section” transparent_overlay=”transparent_film” margin=”margin_bottom_grid” css=”.vc_custom_1532416999359{padding-right: 25px !important;padding-left: 25px !important;}”][vc_empty_space]\n\n  \n\n\n\n\n\n\n\n\n\n\n\n	\n		\n		 \n	\n	\n		\n		 \n	\n	\n		\n		 \n	\n	\n		Grup StandardGrup Avantaj\n		 \n	\n	\n		\n		 \n	\n	\n	\n	\n	\n		\n		 \n	\n	\n		Am citit și sunt de acord cu  Politica de confidențialitate a datelor\n		 \n	\n	\n		\n		 \n	\n\n\n\n[vc_empty_space][/vc_column][vc_column width=”1/6″][/vc_column][/vc_row]
URL:https://www.allencarr.ro/eveniment/sesiune-suport-2-cristina-nichita-4/
END:VEVENT
END:VCALENDAR