BEGIN:VCALENDAR
VERSION:2.0
PRODID:-//Allencarr - ECPv6.3.3//NONSGML v1.0//EN
CALSCALE:GREGORIAN
METHOD:PUBLISH
X-ORIGINAL-URL:https://www.allencarr.ro
X-WR-CALDESC:Events for Allencarr
REFRESH-INTERVAL;VALUE=DURATION:PT1H
X-Robots-Tag:noindex
X-PUBLISHED-TTL:PT1H
BEGIN:VTIMEZONE
TZID:Europe/Bucharest
BEGIN:DAYLIGHT
TZOFFSETFROM:+0200
TZOFFSETTO:+0300
TZNAME:EEST
DTSTART:20260329T010000
END:DAYLIGHT
BEGIN:STANDARD
TZOFFSETFROM:+0300
TZOFFSETTO:+0200
TZNAME:EET
DTSTART:20261025T010000
END:STANDARD
END:VTIMEZONE
BEGIN:VEVENT
DTSTART;VALUE=DATE:20260117
DTEND;VALUE=DATE:20260118
DTSTAMP:20260421T220714
CREATED:20260101T090541Z
LAST-MODIFIED:20260101T090542Z
UID:2577-1768608000-1768694399@www.allencarr.ro
SUMMARY:Sesiune de grup
DESCRIPTION:[vc_row][vc_column width=”1/6″][/vc_column][vc_column width=”2/3″ heading_align=”text-center” color_set=”secondary_section” transparent_overlay=”transparent_film” margin=”margin_bottom_grid” css=”.vc_custom_1532416999359{padding-right: 25px !important;padding-left: 25px !important;}”][vc_empty_space]\n\n  \n\n\n\n\n\n\n\n\n\n\n\n	\n		\n		 \n	\n	\n		\n		 \n	\n	\n		\n		 \n	\n	\n		Grup StandardGrup Avantaj\n		 \n	\n	\n		\n		 \n	\n	\n	\n	\n	\n		\n		 \n	\n	\n		Am citit și sunt de acord cu  Politica de confidențialitate a datelor\n		 \n	\n	\n		\n		 \n	\n\n\n\n[vc_empty_space][/vc_column][vc_column width=”1/6″][/vc_column][/vc_row]
URL:https://www.allencarr.ro/eveniment/sesiune-de-grup-35/
END:VEVENT
BEGIN:VEVENT
DTSTART;VALUE=DATE:20260131
DTEND;VALUE=DATE:20260201
DTSTAMP:20260421T220714
CREATED:20260101T090700Z
LAST-MODIFIED:20260101T090700Z
UID:2580-1769817600-1769903999@www.allencarr.ro
SUMMARY:Sesiune de grup
DESCRIPTION:[vc_row][vc_column width=”1/6″][/vc_column][vc_column width=”1/6″][/vc_column][vc_column width=”2/3″ heading_align=”text-center” color_set=”secondary_section” transparent_overlay=”transparent_film” margin=”margin_bottom_grid” css=”.vc_custom_1532416999359{padding-right: 25px !important;padding-left: 25px !important;}”][vc_empty_space]\n\n  \n\n\n\n\n\n\n\n\n\n\n\n	\n		\n		 \n	\n	\n		\n		 \n	\n	\n		\n		 \n	\n	\n		Grup StandardGrup Avantaj\n		 \n	\n	\n		\n		 \n	\n	\n	\n	\n	\n		\n		 \n	\n	\n		Am citit și sunt de acord cu  Politica de confidențialitate a datelor\n		 \n	\n	\n		\n		 \n	\n\n\n\n[vc_empty_space][/vc_column][/vc_row]
URL:https://www.allencarr.ro/eveniment/sesiune-de-grup-36/
END:VEVENT
BEGIN:VEVENT
DTSTART;VALUE=DATE:20260207
DTEND;VALUE=DATE:20260208
DTSTAMP:20260421T220714
CREATED:20260127T131948Z
LAST-MODIFIED:20260127T131948Z
UID:2582-1770422400-1770508799@www.allencarr.ro
SUMMARY:Sesiune de grup
DESCRIPTION:[vc_row][vc_column width=”1/6″][/vc_column][vc_column width=”2/3″ heading_align=”text-center” color_set=”secondary_section” transparent_overlay=”transparent_film” margin=”margin_bottom_grid” css=”.vc_custom_1532416999359{padding-right: 25px !important;padding-left: 25px !important;}”][vc_empty_space]\n\n  \n\n\n\n\n\n\n\n\n\n\n\n	\n		\n		 \n	\n	\n		\n		 \n	\n	\n		\n		 \n	\n	\n		Grup StandardGrup Avantaj\n		 \n	\n	\n		\n		 \n	\n	\n	\n	\n	\n		\n		 \n	\n	\n		Am citit și sunt de acord cu  Politica de confidențialitate a datelor\n		 \n	\n	\n		\n		 \n	\n\n\n\n[vc_empty_space][/vc_column][vc_column width=”1/6″][/vc_column][/vc_row]
URL:https://www.allencarr.ro/eveniment/sesiune-de-grup-37/
END:VEVENT
BEGIN:VEVENT
DTSTART;TZID=Europe/Bucharest:20260221T120000
DTEND;TZID=Europe/Bucharest:20260221T170000
DTSTAMP:20260421T220714
CREATED:20260127T132021Z
LAST-MODIFIED:20260215T102609Z
UID:2584-1771675200-1771693200@www.allencarr.ro
SUMMARY:Sesiune de grup
DESCRIPTION:[vc_row][vc_column width=”1/6″][/vc_column][vc_column width=”2/3″ heading_align=”text-center” color_set=”secondary_section” transparent_overlay=”transparent_film” margin=”margin_bottom_grid” css=”.vc_custom_1532416999359{padding-right: 25px !important;padding-left: 25px !important;}”][vc_empty_space]\n\n  \n\n\n\n\n\n\n\n\n\n\n\n	\n		\n		 \n	\n	\n		\n		 \n	\n	\n		\n		 \n	\n	\n		Grup StandardGrup Avantaj\n		 \n	\n	\n		\n		 \n	\n	\n	\n	\n	\n		\n		 \n	\n	\n		Am citit și sunt de acord cu  Politica de confidențialitate a datelor\n		 \n	\n	\n		\n		 \n	\n\n\n\n[vc_empty_space][/vc_column][vc_column width=”1/6″][/vc_column][/vc_row]
URL:https://www.allencarr.ro/eveniment/sesiune-de-grup-38/
END:VEVENT
BEGIN:VEVENT
DTSTART;TZID=Europe/Bucharest:20260307T120000
DTEND;TZID=Europe/Bucharest:20260307T170000
DTSTAMP:20260421T220714
CREATED:20260127T132231Z
LAST-MODIFIED:20260215T102642Z
UID:2586-1772884800-1772902800@www.allencarr.ro
SUMMARY:Sesiune de grup
DESCRIPTION:[vc_row][vc_column width=”1/6″][/vc_column][vc_column width=”2/3″ heading_align=”text-center” color_set=”secondary_section” transparent_overlay=”transparent_film” margin=”margin_bottom_grid” css=”.vc_custom_1532416999359{padding-right: 25px !important;padding-left: 25px !important;}”][vc_empty_space]\n\n  \n\n\n\n\n\n\n\n\n\n\n\n	\n		\n		 \n	\n	\n		\n		 \n	\n	\n		\n		 \n	\n	\n		Grup StandardGrup Avantaj\n		 \n	\n	\n		\n		 \n	\n	\n	\n	\n	\n		\n		 \n	\n	\n		Am citit și sunt de acord cu  Politica de confidențialitate a datelor\n		 \n	\n	\n		\n		 \n	\n\n\n\n[vc_empty_space][/vc_column][vc_column width=”1/6″][/vc_column][/vc_row]
URL:https://www.allencarr.ro/eveniment/sesiune-de-grup-39/
END:VEVENT
BEGIN:VEVENT
DTSTART;TZID=Europe/Bucharest:20260328T120000
DTEND;TZID=Europe/Bucharest:20260328T170000
DTSTAMP:20260421T220714
CREATED:20260127T132320Z
LAST-MODIFIED:20260215T102719Z
UID:2588-1774699200-1774717200@www.allencarr.ro
SUMMARY:Sesiune de grup
DESCRIPTION:[vc_row][vc_column width=”1/6″][/vc_column][vc_column width=”2/3″ heading_align=”text-center” color_set=”secondary_section” transparent_overlay=”transparent_film” margin=”margin_bottom_grid” css=”.vc_custom_1532416999359{padding-right: 25px !important;padding-left: 25px !important;}”][vc_empty_space]\n\n  \n\n\n\n\n\n\n\n\n\n\n\n	\n		\n		 \n	\n	\n		\n		 \n	\n	\n		\n		 \n	\n	\n		Grup StandardGrup Avantaj\n		 \n	\n	\n		\n		 \n	\n	\n	\n	\n	\n		\n		 \n	\n	\n		Am citit și sunt de acord cu  Politica de confidențialitate a datelor\n		 \n	\n	\n		\n		 \n	\n\n\n\n[vc_empty_space][/vc_column][vc_column width=”1/6″][/vc_column][/vc_row]
URL:https://www.allencarr.ro/eveniment/sesiune-de-grup-40/
END:VEVENT
BEGIN:VEVENT
DTSTART;TZID=Europe/Bucharest:20260404T120000
DTEND;TZID=Europe/Bucharest:20260404T170000
DTSTAMP:20260421T220714
CREATED:20260316T111657Z
LAST-MODIFIED:20260316T111657Z
UID:2601-1775304000-1775322000@www.allencarr.ro
SUMMARY:Sesiune de grup
DESCRIPTION:[vc_row][vc_column width=”1/6″][/vc_column][vc_column width=”2/3″ heading_align=”text-center” color_set=”secondary_section” transparent_overlay=”transparent_film” margin=”margin_bottom_grid” css=”.vc_custom_1532416999359{padding-right: 25px !important;padding-left: 25px !important;}”][vc_empty_space]\n\n  \n\n\n\n\n\n\n\n\n\n\n\n	\n		\n		 \n	\n	\n		\n		 \n	\n	\n		\n		 \n	\n	\n		Grup StandardGrup Avantaj\n		 \n	\n	\n		\n		 \n	\n	\n	\n	\n	\n		\n		 \n	\n	\n		Am citit și sunt de acord cu  Politica de confidențialitate a datelor\n		 \n	\n	\n		\n		 \n	\n\n\n\n[vc_empty_space][/vc_column][vc_column width=”1/6″][/vc_column][/vc_row]
URL:https://www.allencarr.ro/eveniment/sesiune-de-grup-41/
END:VEVENT
BEGIN:VEVENT
DTSTART;TZID=Europe/Bucharest:20260425T120000
DTEND;TZID=Europe/Bucharest:20260425T170000
DTSTAMP:20260421T220714
CREATED:20260316T111755Z
LAST-MODIFIED:20260316T111756Z
UID:2603-1777118400-1777136400@www.allencarr.ro
SUMMARY:Sesiune de grup
DESCRIPTION:[vc_row][vc_column width=”1/6″][/vc_column][vc_column width=”2/3″ heading_align=”text-center” color_set=”secondary_section” transparent_overlay=”transparent_film” margin=”margin_bottom_grid” css=”.vc_custom_1532416999359{padding-right: 25px !important;padding-left: 25px !important;}”][vc_empty_space]\n\n  \n\n\n\n\n\n\n\n\n\n\n\n	\n		\n		 \n	\n	\n		\n		 \n	\n	\n		\n		 \n	\n	\n		Grup StandardGrup Avantaj\n		 \n	\n	\n		\n		 \n	\n	\n	\n	\n	\n		\n		 \n	\n	\n		Am citit și sunt de acord cu  Politica de confidențialitate a datelor\n		 \n	\n	\n		\n		 \n	\n\n\n\n[vc_empty_space][/vc_column][vc_column width=”1/6″][/vc_column][/vc_row]
URL:https://www.allencarr.ro/eveniment/sesiune-de-grup-42/
END:VEVENT
END:VCALENDAR