BEGIN:VCALENDAR
VERSION:2.0
PRODID:-//Allencarr - ECPv6.3.3//NONSGML v1.0//EN
CALSCALE:GREGORIAN
METHOD:PUBLISH
X-ORIGINAL-URL:https://www.allencarr.ro
X-WR-CALDESC:Events for Allencarr
REFRESH-INTERVAL;VALUE=DURATION:PT1H
X-Robots-Tag:noindex
X-PUBLISHED-TTL:PT1H
BEGIN:VTIMEZONE
TZID:UTC
BEGIN:STANDARD
TZOFFSETFROM:+0000
TZOFFSETTO:+0000
TZNAME:UTC
DTSTART:20190101T000000
END:STANDARD
END:VTIMEZONE
BEGIN:VEVENT
DTSTART;TZID=UTC:20191125T174500
DTEND;TZID=UTC:20191125T194500
DTSTAMP:20260419T165510
CREATED:20191021T042812Z
LAST-MODIFIED:20191021T042812Z
UID:1398-1574703900-1574711100@www.allencarr.ro
SUMMARY:Sesiune suport 3 - Cristina Nichita
DESCRIPTION:[vc_row][vc_column width=”1/6″][/vc_column][vc_column width=”2/3″ heading_align=”text-center” color_set=”secondary_section” transparent_overlay=”transparent_film” margin=”margin_bottom_grid” css=”.vc_custom_1532416999359{padding-right: 25px !important;padding-left: 25px !important;}”][vc_empty_space]\n\n  \n\n\n\n\n\n\n\n\n\n\n\n	\n		\n		 \n	\n	\n		\n		 \n	\n	\n		\n		 \n	\n	\n		Grup StandardGrup Avantaj\n		 \n	\n	\n		\n		 \n	\n	\n	\n	\n	\n		\n		 \n	\n	\n		Am citit și sunt de acord cu  Politica de confidențialitate a datelor\n		 \n	\n	\n		\n		 \n	\n\n\n\n[vc_empty_space][/vc_column][vc_column width=”1/6″][/vc_column][/vc_row]
URL:https://www.allencarr.ro/eveniment/sesiune-suport-3-cristina-nichita-2/
END:VEVENT
END:VCALENDAR